BEGIN:VCALENDAR
VERSION:2.0
PRODID:-//newportsymphony.org//NONSGML kigkonsult.se iCalcreator 2.30.10//
CALSCALE:GREGORIAN
METHOD:PUBLISH
UID:bb11023d-445b-4e86-95a1-be2a043e2709
X-WR-CALDESC:Monthly meeting of the Newport Symphony Orchestra Board of Dir
 ectors. For agenda\, contact the Executive Director\, Lisa Lipton.
X-WR-RELCALID:a8d352df52bb418c131a042c0fe695b2
X-WR-TIMEZONE:America/Los_Angeles
BEGIN:VTIMEZONE
TZID:America/Los_Angeles
BEGIN:STANDARD
TZNAME:PST
DTSTART:20281105T020000
TZOFFSETFROM:-0700
TZOFFSETTO:-0800
RDATE:20291104T020000
END:STANDARD
BEGIN:DAYLIGHT
TZNAME:PDT
DTSTART:20280312T020000
TZOFFSETFROM:-0800
TZOFFSETTO:-0700
RDATE:20290311T020000
RDATE:20300310T020000
END:DAYLIGHT
END:VTIMEZONE
BEGIN:VEVENT
UID:b9b224f0-defd-41ef-83a5-3bab279b0156
DTSTAMP:20260426T011640Z
DESCRIPTION:Monthly meeting of the Newport Symphony Orchestra Board of Dire
 ctors. For agenda\, contact the Executive Director\, Lisa Lipton.
DTSTART;TZID=America/Los_Angeles:20281115T173000
DTEND;TZID=America/Los_Angeles:20281115T190000
LOCATION:
SUMMARY:NSO Board Meeting
END:VEVENT
END:VCALENDAR
