BEGIN:VCALENDAR
VERSION:2.0
PRODID:-//newportsymphony.org//NONSGML kigkonsult.se iCalcreator 2.30.10//
CALSCALE:GREGORIAN
METHOD:PUBLISH
UID:e7263a21-9738-45eb-ade1-2a8f1d275378
X-WR-CALDESC:Monthly meeting of the Newport Symphony Orchestra Board of Dir
 ectors. For agenda\, contact the Executive Director\, Lisa Lipton.
X-WR-RELCALID:93dda5f961ad2160a50873d15959ca79
X-WR-TIMEZONE:America/Los_Angeles
BEGIN:VTIMEZONE
TZID:America/Los_Angeles
BEGIN:STANDARD
TZNAME:PST
DTSTART:20271107T020000
TZOFFSETFROM:-0700
TZOFFSETTO:-0800
RDATE:20281105T020000
RDATE:20291104T020000
END:STANDARD
BEGIN:DAYLIGHT
TZNAME:PDT
DTSTART:20280312T020000
TZOFFSETFROM:-0800
TZOFFSETTO:-0700
RDATE:20290311T020000
END:DAYLIGHT
END:VTIMEZONE
BEGIN:VEVENT
UID:62cc554b-3873-482d-809d-c30b92d75687
DTSTAMP:20260425T211925Z
DESCRIPTION:Monthly meeting of the Newport Symphony Orchestra Board of Dire
 ctors. For agenda\, contact the Executive Director\, Lisa Lipton.
DTSTART;TZID=America/Los_Angeles:20280816T173000
DTEND;TZID=America/Los_Angeles:20280816T190000
LOCATION:
SUMMARY:NSO Board Meeting
END:VEVENT
END:VCALENDAR
