BEGIN:VCALENDAR
VERSION:2.0
PRODID:-//newportsymphony.org//NONSGML kigkonsult.se iCalcreator 2.30.10//
CALSCALE:GREGORIAN
METHOD:PUBLISH
UID:d9bc794f-4747-42ef-ac7c-ea9045c3f763
X-WR-CALDESC:Monthly meeting of the Newport Symphony Orchestra Board of Dir
 ectors. For agenda\, contact the Executive Director\, Lisa Lipton.
X-WR-RELCALID:31d0690671ed4a872bb2d93d28d0c431
X-WR-TIMEZONE:America/Los_Angeles
BEGIN:VTIMEZONE
TZID:America/Los_Angeles
BEGIN:STANDARD
TZNAME:PST
DTSTART:20271107T020000
TZOFFSETFROM:-0700
TZOFFSETTO:-0800
RDATE:20281105T020000
END:STANDARD
BEGIN:DAYLIGHT
TZNAME:PDT
DTSTART:20280312T020000
TZOFFSETFROM:-0800
TZOFFSETTO:-0700
RDATE:20290311T020000
END:DAYLIGHT
END:VTIMEZONE
BEGIN:VEVENT
UID:c016f25f-b994-4540-8b05-b2bad5607f58
DTSTAMP:20260425T144406Z
DESCRIPTION:Monthly meeting of the Newport Symphony Orchestra Board of Dire
 ctors. For agenda\, contact the Executive Director\, Lisa Lipton.
DTSTART;TZID=America/Los_Angeles:20280315T173000
DTEND;TZID=America/Los_Angeles:20280315T190000
LOCATION:
SUMMARY:NSO Board Meeting
END:VEVENT
END:VCALENDAR
