BEGIN:VCALENDAR
VERSION:2.0
PRODID:-//newportsymphony.org//NONSGML kigkonsult.se iCalcreator 2.30.10//
CALSCALE:GREGORIAN
METHOD:PUBLISH
UID:cbb27c66-e161-440e-810f-a9205105efcb
X-WR-CALDESC:Monthly meeting of the Newport Symphony Orchestra Board of Dir
 ectors. For agenda\, contact the Executive Director\, Lisa Lipton.
X-WR-RELCALID:9dde08a1c9c2f051b38933e1486585d0
X-WR-TIMEZONE:America/Los_Angeles
BEGIN:VTIMEZONE
TZID:America/Los_Angeles
BEGIN:STANDARD
TZNAME:PST
DTSTART:20241103T020000
TZOFFSETFROM:-0700
TZOFFSETTO:-0800
RDATE:20251102T020000
RDATE:20261101T020000
END:STANDARD
BEGIN:DAYLIGHT
TZNAME:PDT
DTSTART:20250309T020000
TZOFFSETFROM:-0800
TZOFFSETTO:-0700
RDATE:20260308T020000
END:DAYLIGHT
END:VTIMEZONE
BEGIN:VEVENT
UID:8a53b95b-695a-40fd-8c7f-d0a17942bda8
DTSTAMP:20260424T204353Z
DESCRIPTION:Monthly meeting of the Newport Symphony Orchestra Board of Dire
 ctors. For agenda\, contact the Executive Director\, Lisa Lipton.
DTSTART;TZID=America/Los_Angeles:20250716T173000
DTEND;TZID=America/Los_Angeles:20250716T190000
LOCATION:
SUMMARY:NSO Board Meeting
END:VEVENT
END:VCALENDAR
