BEGIN:VCALENDAR
VERSION:2.0
PRODID:-//newportsymphony.org//NONSGML kigkonsult.se iCalcreator 2.30.10//
CALSCALE:GREGORIAN
METHOD:PUBLISH
UID:bc33481e-b94e-4b46-9f72-bffdf1c4c26c
X-WR-CALDESC:Monthly meeting of the Newport Symphony Orchestra Board of Dir
 ectors. For agenda\, contact the Executive Director\, Lisa Lipton.
X-WR-RELCALID:92b793ffd827f9f0cdb1ad754a46a425
X-WR-TIMEZONE:America/Los_Angeles
BEGIN:VTIMEZONE
TZID:America/Los_Angeles
BEGIN:STANDARD
TZNAME:PST
DTSTART:20231105T020000
TZOFFSETFROM:-0700
TZOFFSETTO:-0800
RDATE:20241103T020000
END:STANDARD
BEGIN:DAYLIGHT
TZNAME:PDT
DTSTART:20230312T020000
TZOFFSETFROM:-0800
TZOFFSETTO:-0700
RDATE:20240310T020000
RDATE:20250309T020000
END:DAYLIGHT
END:VTIMEZONE
BEGIN:VEVENT
UID:2ebf219e-d9d4-4873-8b79-4d79b3b7fb92
DTSTAMP:20260425T211822Z
DESCRIPTION:Monthly meeting of the Newport Symphony Orchestra Board of Dire
 ctors. For agenda\, contact the Executive Director\, Lisa Lipton.
DTSTART;TZID=America/Los_Angeles:20231220T173000
DTEND;TZID=America/Los_Angeles:20231220T190000
LOCATION:
SUMMARY:NSO Board Meeting
END:VEVENT
END:VCALENDAR
